BEGIN:VCALENDAR
VERSION:2.0
PRODID:-//Westfield Riding Club - ECPv6.15.20//NONSGML v1.0//EN
CALSCALE:GREGORIAN
METHOD:PUBLISH
X-WR-CALNAME:Westfield Riding Club
X-ORIGINAL-URL:https://westfieldridingclub.org
X-WR-CALDESC:Events for Westfield Riding Club
REFRESH-INTERVAL;VALUE=DURATION:PT1H
X-Robots-Tag:noindex
X-PUBLISHED-TTL:PT1H
BEGIN:VTIMEZONE
TZID:UTC
BEGIN:STANDARD
TZOFFSETFROM:+0000
TZOFFSETTO:+0000
TZNAME:UTC
DTSTART:20160101T000000
END:STANDARD
END:VTIMEZONE
BEGIN:VEVENT
DTSTART;TZID=UTC:20180520T100000
DTEND;TZID=UTC:20180520T133000
DTSTAMP:20260421T175040
CREATED:20180508T011913Z
LAST-MODIFIED:20180508T012000Z
UID:929-1526810400-1526823000@westfieldridingclub.org
SUMMARY:McDonald Farm Nature Preserve
DESCRIPTION:Our May 20th Ride has been moved to a new location due to maintenance on the roads at Robinson State Park.  We will be riding at McDonald Nature Preserve in Wilbraham MA. \nRide out at 10:30 \n2 to 2 1/2 hour ride \nBring bagged lunch for after the ride \nMcDonald Farm Nature Preserve\nWashington Road\nWilbraham\, MA \nDirections: GPS address 60 Washington Road. There is no actual street number for McDonald Farm Nature Preserve but the last house on the right before the parking lot is 60 Washington Road. To get to the parking lot you will be going through a residential neighborhood. Take the side street next to Crazy Jakes Restaurant in Wilbraham. The side street next to Crazy Jakes is Grove Street. It shortly turns to the right and becomes Manchonis Road. Continue only a short distance to McDonald Way. McDonald Way is not on Google Maps. After turning right onto Manchonis Road look for the first brick house on the left and it will be followed by a white house on the left. There is a street sign that says McDonald Way Nature Preserve on the left after the white house. The address of the white house is 70 Manchonis Road. McDonald Way looks like a driveway and is a one lane small road. Take a left onto McDonald Way. See  a street view image from Google Maps of the entrance to McDonald Way. This is just a short street that goes to Washington Road. Take a left onto Washington Road. Follow a short distance on a dirt road to the end and it will bring you to McDonald Farm Nature Preserve. There is a large grassy field for parking horse trailers. \n  \n\n\n\n\n\n\n\n\n\n\n\n\n\n\n\n\n\n\n\nContact Sandi Hutchison at 860-965-2744 or email Linda Keene at LKeene@thermopride.com for more information.
URL:https://westfieldridingclub.org/event/mcdonald-farm-nature-preserve/
CATEGORIES:Trail Rides
END:VEVENT
BEGIN:VEVENT
DTSTART;VALUE=DATE:20180506
DTEND;VALUE=DATE:20180507
DTSTAMP:20260421T175040
CREATED:20180123T232345Z
LAST-MODIFIED:20180502T182237Z
UID:880-1525564800-1525651199@westfieldridingclub.org
SUMMARY:Blessing of the Mounts Ride
DESCRIPTION:Blessing of the Mounts Ride\n Stafford\, CT\n(Sponsored By Reddington Rock Riding Club)
URL:https://westfieldridingclub.org/event/blessing-of-the-mounts-ride/
CATEGORIES:Trail Rides
END:VEVENT
BEGIN:VEVENT
DTSTART;TZID=UTC:20170820T080000
DTEND;TZID=UTC:20170820T170000
DTSTAMP:20260421T175040
CREATED:20170303T193629Z
LAST-MODIFIED:20170303T193629Z
UID:807-1503216000-1503248400@westfieldridingclub.org
SUMMARY:August 20: Trail Ride @ Littleville Dam
DESCRIPTION:LOCATION:           Littleville Dam \nDATE:                        Sunday\, August 20\, 2017 \nTIME:                        Meet at 10:30              Ride out at 11 AM \nCOST:                        Free \nDISTANCE:                TBA \nBROWN BAG LUNCH after the ride \nDESCRIPTION:  TBA. \nDIRECTIONS:  TBA. \nFor more information call Hazel at 413-896-4429 or e-mail hmhmavis@gmail.com
URL:https://westfieldridingclub.org/event/august-20-trail-ride-littleville-dam/
LOCATION:Littleville Dam\, Huntington\, MA\, 01050\, United States
CATEGORIES:Trail Rides
END:VEVENT
BEGIN:VEVENT
DTSTART;TZID=UTC:20170709T080000
DTEND;TZID=UTC:20170709T170000
DTSTAMP:20260421T175040
CREATED:20170303T193400Z
LAST-MODIFIED:20170303T193400Z
UID:805-1499587200-1499619600@westfieldridingclub.org
SUMMARY:July 9: Trail Ride @ Beckett Land Trust
DESCRIPTION:LOCATION:          Beckett Land Trust \nDATE:                        Sunday\, July 9\, 2017 \nTIME:                        Meet at 10:30              Ride out at 11 AM \nCOST:                        Free \nDISTANCE:                TBA \nBROWN BAG LUNCH after the ride \nDESCRIPTION:  TBA. \nDIRECTIONS:  TBA. \nFor more information call Hazel at 413-896-4429 or e-mail hmhmavis@gmail.com
URL:https://westfieldridingclub.org/event/july-9-trail-ride-beckett-land-trust/
LOCATION:Beckett Land Trust
CATEGORIES:Trail Rides
END:VEVENT
BEGIN:VEVENT
DTSTART;TZID=UTC:20170625T103000
DTEND;TZID=UTC:20170625T150000
DTSTAMP:20260421T175040
CREATED:20160226T000026Z
LAST-MODIFIED:20170303T193127Z
UID:617-1498386600-1498402800@westfieldridingclub.org
SUMMARY:June 25: Trail Ride @ Blandford Ski Area
DESCRIPTION:LOCATION:           Blandford Ski Area \nDATE:                         Sunday\, June 25\, 2017 \nTIME:                        Meet at 10:30              Ride out at 11 AM \nCOST:                        Free \nBROWN BAG LUNCH after the ride \nDESCRIPTION:  This ride will be a leisurely one through through the hills and woodland trails of Blandford Ski Area. The ride takes approximately 2-2  1/2 hours. There are some stony places\, so shoes or boots are recommended. The terrain is mostly flat. Bring a brown bag lunch and we’ll eat together after we ride. \nDIRECTIONS:  From Westfield\, take Route 20 West to Russell. Turn left on Blandford Stage Road (just after the State Police barracks and across the street from the Russell Inn). Go straight for a couple of miles to Ski Club Road\, which is on the right. The Ski Club is about a mile & a half down on right. There’s a large parking lot.  NOTE: Check skiblandford.org for more detailed directions . \nFor more information call Hazel at 413-896-4429 or e-mail hmhmavis@gmail.com
URL:https://westfieldridingclub.org/event/trail-ride-blandford-ski-area/
LOCATION:Blandford Ski Area
CATEGORIES:Trail Rides
END:VEVENT
BEGIN:VEVENT
DTSTART;TZID=UTC:20170521T103000
DTEND;TZID=UTC:20170521T150000
DTSTAMP:20260421T175040
CREATED:20170303T192950Z
LAST-MODIFIED:20170303T193155Z
UID:801-1495362600-1495378800@westfieldridingclub.org
SUMMARY:May 21: Trail Ride @ Robinson State Park
DESCRIPTION:LOCATION:           Robinson State Park \nDATE:                        Sunday\, May 21\, 2017 \nTIME:                        Meet at 10:30              Ride out at 11 AM \nCOST:                        Free \nDISTANCE:                TBA \nBROWN BAG LUNCH after the ride \nDESCRIPTION:  TBA. \nDIRECTIONS:  TBA. \nFor more information call Hazel at 413-896-4429 or e-mail hmhmavis@gmail.com
URL:https://westfieldridingclub.org/event/may-21-trail-ride-robinson-state-park/
LOCATION:Robinson State Park\, Feeding Hills\, Feeding Hills\, MA\, 01030\, United States
CATEGORIES:Trail Rides
END:VEVENT
END:VCALENDAR