BEGIN:VCALENDAR
VERSION:2.0
PRODID:-//Westfield Riding Club - ECPv6.15.20//NONSGML v1.0//EN
CALSCALE:GREGORIAN
METHOD:PUBLISH
X-ORIGINAL-URL:https://westfieldridingclub.org
X-WR-CALDESC:Events for Westfield Riding Club
REFRESH-INTERVAL;VALUE=DURATION:PT1H
X-Robots-Tag:noindex
X-PUBLISHED-TTL:PT1H
BEGIN:VTIMEZONE
TZID:UTC
BEGIN:STANDARD
TZOFFSETFROM:+0000
TZOFFSETTO:+0000
TZNAME:UTC
DTSTART:20180101T000000
END:STANDARD
END:VTIMEZONE
BEGIN:VEVENT
DTSTART;TZID=UTC:20230520T090000
DTEND;TZID=UTC:20230520T140000
DTSTAMP:20260421T162757
CREATED:20230214T030432Z
LAST-MODIFIED:20230214T031101Z
UID:1512-1684573200-1684591200@westfieldridingclub.org
SUMMARY:WRC Tack\, Tag & Craft Sale
DESCRIPTION:Back for 2023 – WRC is excited to host our 2nd Tack\, Tag & Craft Sale! This will be a fundraiser to support the WRC. Open to all (members\, public\, vendors\, etc). Perfect time to clean out your tack trunks/barns/houses\, make a few dollars\, and find some new bargains! \nRental spaces will be approximately 10ft x 10ft. Please bring your own tables\, blankets\, EZ Ups for your space. \nRental pricing: $20 for non-members\, $15 for members. Payment can be made via PayPal (westfieldridingclub@gmail.com) or by check. Please complete this form to reserve your spot: https://forms.gle/gHwxZiXaFzFCK9vv5 \nPlease note that cell service can be spotty so cash or hotspots are recommended for transactions on the day of the event.
URL:https://westfieldridingclub.org/event/wrc-tack-tag-craft-sale/
LOCATION:Westfield Riding Club\, 29 Fowler Rd\, Westfield\, MA\, 01085\, United States
CATEGORIES:Special Events
ATTACH;FMTTYPE=image/jpeg:https://westfieldridingclub.org/wp-content/uploads/2023/02/F430F36B-7B53-4A10-BC2D-F5FAD8D40D45.jpeg
ORGANIZER;CN="Westfield Riding Club":MAILTO:westfieldridingclub@gmail.com
END:VEVENT
BEGIN:VEVENT
DTSTART;VALUE=DATE:20230211
DTEND;VALUE=DATE:20240101
DTSTAMP:20260421T162757
CREATED:20230211T215551Z
LAST-MODIFIED:20230214T030924Z
UID:1493-1676073600-1704067199@westfieldridingclub.org
SUMMARY:2023 Events Calendar
DESCRIPTION:
URL:https://westfieldridingclub.org/event/2023-events-calendar/
LOCATION:Westfield Riding Club\, 29 Fowler Rd\, Westfield\, MA\, 01085\, United States
CATEGORIES:Games Day,Horse Shows,Meetings,Special Events,Trail Rides
ATTACH;FMTTYPE=image/jpeg:https://westfieldridingclub.org/wp-content/uploads/2021/04/B75E22C8-6BAC-463F-9F95-3151276A9869.jpeg
ORGANIZER;CN="Westfield Riding Club":MAILTO:westfieldridingclub@gmail.com
END:VEVENT
BEGIN:VEVENT
DTSTART;TZID=UTC:20200125T180000
DTEND;TZID=UTC:20200125T210000
DTSTAMP:20260421T162757
CREATED:20181117T144114Z
LAST-MODIFIED:20191216T200141Z
UID:859-1579975200-1579986000@westfieldridingclub.org
SUMMARY:WRC Year-End Party & Awards Banquet
DESCRIPTION:WRC Year-End Party & Awards Banquet\nSaturday\, January 25\, 2020   ::  6 pm\nClick here to order your tickets today! \nEast Mountain Country Club\n1458 East Mountain Rd.\nWestfield\, MA 01085 \nAwards for Top 8. Raffles*  begin at 6:00 pm. Dinner begins at 6:30 pm. There will be a cash bar. \nMenu: \n\nChicken Francaise\nOven-baked Red Potatoes\nFresh Vegetables (seasonal choice)\nFresh Tossed Salad\nPasta\nWarm Rolls with Butter\nCoffee & Tea Station\n\nTickets:\nChildren Age 8 & Younger:   $15\nAdults & Older for children age 8 and younger:  $24 plus a $1 ticket processing fee \n* Raffle donations are being coordinated by Jessica Whitmore. If you have items to donate\, contact her at 413.454.3385. \nClick here to order your tickets today!
URL:https://westfieldridingclub.org/event/awards-banquet/
LOCATION:East Mountain Country Club\, 1458 East Mountain Road\, Westfield\, MA\, 01077\, United States
CATEGORIES:Special Events
ATTACH;FMTTYPE=image/jpeg:https://westfieldridingclub.org/wp-content/uploads/2016/02/ribbons.jpg
ORGANIZER;CN="Westfield Riding Club":MAILTO:westfieldridingclub@gmail.com
END:VEVENT
BEGIN:VEVENT
DTSTART;TZID=UTC:20191018T180000
DTEND;TZID=UTC:20191018T200000
DTSTAMP:20260421T162757
CREATED:20190309T171030Z
LAST-MODIFIED:20190309T183828Z
UID:1093-1571421600-1571428800@westfieldridingclub.org
SUMMARY:Members Only Bonfire
DESCRIPTION:For WRC Members only. Bring a side dish. WRC will provide hot dogs\, hamburgers\, and rolls. \nMore details coming soon!
URL:https://westfieldridingclub.org/event/members-only-bonfire/
LOCATION:Westfield Riding Club\, 29 Fowler Rd\, Westfield\, MA\, 01085\, United States
CATEGORIES:Special Events
ORGANIZER;CN="Westfield Riding Club":MAILTO:westfieldridingclub@gmail.com
END:VEVENT
BEGIN:VEVENT
DTSTART;TZID=UTC:20190810T090000
DTEND;TZID=UTC:20190810T170000
DTSTAMP:20260421T162757
CREATED:20190309T150744Z
LAST-MODIFIED:20190718T011347Z
UID:1062-1565427600-1565456400@westfieldridingclub.org
SUMMARY:2019 WRC Games Day
DESCRIPTION:Saturday\, August 10\, 2019: WRC Games Day\n(Rain date 8/11/19)\nWestfield Riding Club Grounds\n29 Fowler Rd.\,\nWestfield\, MA \n\nDescriptions of Classes\nSimon Says\nExhibitors must accomplish tasks as directed by the announcer with the cue\, “Simons says….” Riders who perform the tasks without the cue are out. Leads and diagonals will count. The game is the same for in hand– just leading instead of riding. \nEgg & Spoon\nRiders or handlers will carry an egg on a spoon through the class. The one who keeps the egg on the spoon the longest wins! \nWater Race \nRiders or handlers will carry a cup of water through the class. The one who has the most water at the end of the class wins! \nLead Line Candy Race\nOn GO\, mounted lead line riders will be lead to end of arena. Their handlers will help them dismount\, then the handlers will bring back horses to the starting point with the riders following behind on foot\, gathering as much candy as they can. The rider who gathers the most candy wins. \nCarrot Race\nExhibitors ride from the in gate to the other end of arena and dismount. There\, they pick up a carrot and use it to persuade their horse to follow them back to the starting line. The game is basically the same for in hand\, but the handler runs down with horse in hand. \nScurry\nRiders or handlers move their horse through a course that includes going over two cross rails\, around a barrel and go back over the two cross rails to start line.   \nWalk/Trot Sit-A-Buck\nEach exhibitor must ride bareback. Upon entering the ring\, the judge places a piece of paper (approximately 3” x 5”) under the rider’s leg between the knee and buttocks. The horses are then worked at a walk\, trot\, and canter both directions of the ring. Any rider not performing the gaits asked by the judge in a reasonable amount of time is eliminated. As exhibitors lose their paper\, they are eliminated. The last to lose the paper is first; next to last\, second\, etc.  \nPole Bending Pattern  \n*In Hand Pattern:  Weave down\, Run Back  \n \n  \n  \n  \n  \n  \n  \n  \n  \n  \n  \nKeyhole Race\nThe starting line will be 50-100 feet from the entrance to the keyhole. The entrance will be 4 feet wide and 10 feet long\, connected to a circle 20 feet in diameter; this forms the keyhole. \nContestants will cross the starting line\, proceed through the entrance\, turn right or left in the circle\, making a complete 180 degree turn. Then the contestant will exit the keyhole through the entrance and cross the finish line. The contestant will be disqualified if the horse steps outside the chalk line marking the key hole. \n \n  \n  \n  \nBarrel Race
URL:https://westfieldridingclub.org/event/2019-wrc-games-day/
LOCATION:Westfield Riding Club\, 29 Fowler Rd\, Westfield\, MA\, 01085\, United States
CATEGORIES:Games Day,Special Events
ORGANIZER;CN="Westfield Riding Club":MAILTO:westfieldridingclub@gmail.com
END:VEVENT
BEGIN:VEVENT
DTSTART;TZID=UTC:20190517T180000
DTEND;TZID=UTC:20190517T210000
DTSTAMP:20260421T162758
CREATED:20190309T170753Z
LAST-MODIFIED:20190417T165622Z
UID:1090-1558116000-1558126800@westfieldridingclub.org
SUMMARY:Paint & Sip Fundraiser
DESCRIPTION:Paint & Sip Fundraiser Night   \nFriday May 17\, 2019\n6:30pm \n@ The American Legion Post 338 \n46 Powdermill Rd. \nSouthwick\, MA 01077 \nOur artist hosting this event will be Liesl Dalpe! This is open to ALL (not just WRC members) so please bring your friends & family and come enjoy a fun Friday night out to support the Westfield Riding Club! The painting design is TBD\, stay tuned to our Facebook page for updates! \nTickets are $30/person and need to be purchased by Friday May 10th for proper guest count; tickets will not be available at the door \nCash bar will be available!\nPlease call/text Jess Parker (413) 454-3385 with any questions \nClick Here to Register
URL:https://westfieldridingclub.org/event/paint-sip-fundraiser/
LOCATION:Southwick American Legion\, 46 Powder Mill Rd\, Southwick\, MA\, 01077\, United States
CATEGORIES:Special Events
ORGANIZER;CN="Westfield Riding Club":MAILTO:westfieldridingclub@gmail.com
END:VEVENT
END:VCALENDAR