BEGIN:VCALENDAR
VERSION:2.0
PRODID:-//Westfield Riding Club - ECPv6.15.20//NONSGML v1.0//EN
CALSCALE:GREGORIAN
METHOD:PUBLISH
X-WR-CALNAME:Westfield Riding Club
X-ORIGINAL-URL:https://westfieldridingclub.org
X-WR-CALDESC:Events for Westfield Riding Club
REFRESH-INTERVAL;VALUE=DURATION:PT1H
X-Robots-Tag:noindex
X-PUBLISHED-TTL:PT1H
BEGIN:VTIMEZONE
TZID:UTC
BEGIN:STANDARD
TZOFFSETFROM:+0000
TZOFFSETTO:+0000
TZNAME:UTC
DTSTART:20150101T000000
END:STANDARD
END:VTIMEZONE
BEGIN:VEVENT
DTSTART;TZID=UTC:20210605T090000
DTEND;TZID=UTC:20210605T160000
DTSTAMP:20260421T182344
CREATED:20210419T212521Z
LAST-MODIFIED:20210604T160252Z
UID:1405-1622883600-1622908800@westfieldridingclub.org
SUMMARY:Centered Riding/Sure Foot Pads Clinic
DESCRIPTION:Clinic Cancelled due to insufficient entries. \nClinician Deborah Murphy explains how your body moves\, offers an introduction to Sure Foot Pads and using Centered Riding Techniques. The clinic also includes small group lessons that let clinic participants practice new skills.\n \nDate & Time:\nSaturday\, June 5\, 2021  ::  9:00 am – 4:00 pm (rain date June 13\, 2021)\n \nLocation:\nWestfield Riding Club\, 29 Fowler Road\, Westfield\, MA 01085 \nClinic Description/Schedule:\n12 Riders Maximum at this clinic.  Auditor slots available. \n\nMorning Session\nHow your body moves\, intro to sure foot pads for you and your horse\, utilizing centered riding techniques.\nLunch\nBring your own (no food vendors will be onsite due to COVID-19)\nAfternoon Session\nUse your skills with a 45 minute to 1 hour\, 2 to 3 riding group lesson.  Time slots will be assigned on a first come basis.\n\nPrices:\nWestfield Riding Club Members:\n$85 full participation/ride  ::  $20 Audit \nNonmembers:\n$95 full participation/ride  ::  $25 Audit \nDebbie Murphy is a USDF Associate Instructor\, Centered Riding Instructor- Level ll\, Reiki Practitioner-Master Level\, Feldenkrais Practitioner\, Sure Foot Equine Stability Program Practitioner-1 Hoof Level \nAfter retiring from the U.S. Government\, Deborah became a full-time riding instructor and incorporates Dressage training principles\, Centered Riding techniques and principles\, and Feldenkrais Method® principles in all the lessons she teaches. The Centered Riding method uses body awareness\, centering and imagery to re-educate a rider’s mind and body to achieve greater balance to better communicate and move with the horse. Deborah learned that the Awareness through Movement lessons (Feldenkrais Method®) helped her in all aspects of her life\, not just in riding. Normal day to day activities were done with more ease\, her body was more even\, and balanced\, physical movements were done more freely and more efficiently. In addition to Feldenkrais for people\, there is a program for horses involving the use of the Sure Foot® pads developed by Wendy Murdoch. The Sure Foot Pads seem to help horses in a similar way that the Feldenkrais Method helps people. The program offers the horse the ability to self-govern while creating awareness in posture\, balance\, and movement. Standing on the Sure Foot pads allows the horse to “reset” or self-correct habitual patterns. Using the pads seems to help the horse “reprogram” his or her own brain (again like Feldenkrais work). The pads also act like a magnifying glass to the observer. They have a soothing effect\, bringing more tranquility to the horse which can last longer than a single session\, reducing long term stress. Some of the benefits include better performance\, relaxation\, and well-being\, improved proprioception\, support during chronic illness\, help with rehabilitation\, enhancing training\, and Improved learning through novel\, interesting experiences. \nLinks and Downloads:\nUse the links below to register for the clinic (NOTE: Both auditors and participants MUST fill out BOTH waiver forms). \n\nOnline Registration Form\nDownloadable Clinic Flyer\nDownloadable Release & Hold Harmless\nDownloadable Liability Waiver\n\nQuestions?\nEmail us at westfieldridingclub@gmail.com.
URL:https://westfieldridingclub.org/event/centered-riding-sure-foot-pads-clinic/
LOCATION:Westfield Riding Club\, 29 Fowler Rd\, Westfield\, MA\, 01085\, United States
CATEGORIES:Other Equine Events
END:VEVENT
BEGIN:VEVENT
DTSTART;VALUE=DATE:20190519
DTEND;VALUE=DATE:20190520
DTSTAMP:20260421T182344
CREATED:20190309T154501Z
LAST-MODIFIED:20190309T154501Z
UID:1072-1558224000-1558310399@westfieldridingclub.org
SUMMARY:2019 Westfield 350th Community Parade
DESCRIPTION:Details TBA.
URL:https://westfieldridingclub.org/event/2019-westfield-350th-community-parade/
LOCATION:Westfield\, MA\, MA\, 01085\, United States
CATEGORIES:Other Equine Events
ORGANIZER;CN="Westfield Riding Club":MAILTO:westfieldridingclub@gmail.com
END:VEVENT
BEGIN:VEVENT
DTSTART;TZID=UTC:20180407T080000
DTEND;TZID=UTC:20180407T170000
DTSTAMP:20260421T182344
CREATED:20170315T191317Z
LAST-MODIFIED:20180312T110306Z
UID:838-1523088000-1523120400@westfieldridingclub.org
SUMMARY:April 7: Vaccination & Health Clinic
DESCRIPTION:On Saturday\, April 7\, 2018\, Westfield Riding Club and Fenton River Veterinary Services will be hosting a Vaccination & Health Clinic at J & M Stables\, 598 Southwick Road (College Highway)\, Westfield. To pre-register\,  complete and submit this form no later than Friday\, March 30\, 2018. At least 10 horses must pre-register to run this clinic. \nClick here to pre-register. \nThis clinic is open to Westfield Riding Club & Reddington Rock Riding Club members and their horses ONLY. If you would like to join the club\, click here to go to our online membership form.
URL:https://westfieldridingclub.org/event/april-22-vaccination-health-clinic/
LOCATION:J & M Stables\, 598 Southwick Road\, Westfield\, MA\, 01085\, United States
CATEGORIES:Other Equine Events
ORGANIZER;CN="Westfield Riding Club":MAILTO:westfieldridingclub@gmail.com
END:VEVENT
BEGIN:VEVENT
DTSTART;TZID=UTC:20180303T130000
DTEND;TZID=UTC:20180303T160000
DTSTAMP:20260421T182344
CREATED:20180123T234401Z
LAST-MODIFIED:20180201T193456Z
UID:871-1520082000-1520092800@westfieldridingclub.org
SUMMARY:Winter Clinic
DESCRIPTION:Come join us for an afternoon of education and fun!  WRC & RRRC are co-sponsoring this lunch and learn on March 3\, 2018. \nBuffet lunch provided. \nSee detailed information under “News” including the downloadable and Online registration and form. \n  \n  \n 
URL:https://westfieldridingclub.org/event/winter-clinic/
LOCATION:Figaro’s\, 90 Elm Street\, Enfield\, CT
CATEGORIES:Other Equine Events
END:VEVENT
BEGIN:VEVENT
DTSTART;VALUE=DATE:20161110
DTEND;VALUE=DATE:20161114
DTSTAMP:20260421T182344
CREATED:20160710T150541Z
LAST-MODIFIED:20160710T150541Z
UID:751-1478736000-1479081599@westfieldridingclub.org
SUMMARY:Equine Affaire
DESCRIPTION:The 19th Annual Equine Affaire in New England!  Equine Affaire takes place November 10-13\, 2016. Experience the nation’s premiere equine exposition\, featuring more than 230 unique clinics\, seminars\, and demonstrations by top professionals in the horse industry. Equine Affaire also hosts the largest trade show in the East\, showcasing hundreds of commercial exhibits\, an extensive Breed Pavilion\, an educational Equine Fundamentals Forum\, the Versatile Horse & Rider Competition\, and a special evening show – the Fantasia\, a musical celebration of the horse.  Adult admission is $15/day or $50/four-day pass and includes admission to all presentations. The Fantasia (Thursday through Saturday) requires a separate ticket and usually sells out before the event. Visit our new Web site at www.equineaffaire.com\, see us on Facebook\, or call (740) 845-0085 for details.
URL:https://westfieldridingclub.org/event/equine-affaire/
LOCATION:Eastern States Exposition Grounds\, 1305 Memorial Avenue\, West Springfield\, 01089\, United States
CATEGORIES:Other Equine Events
END:VEVENT
END:VCALENDAR