BEGIN:VCALENDAR
VERSION:2.0
PRODID:-//Westfield Riding Club - ECPv6.15.20//NONSGML v1.0//EN
CALSCALE:GREGORIAN
METHOD:PUBLISH
X-ORIGINAL-URL:https://westfieldridingclub.org
X-WR-CALDESC:Events for Westfield Riding Club
REFRESH-INTERVAL;VALUE=DURATION:PT1H
X-Robots-Tag:noindex
X-PUBLISHED-TTL:PT1H
BEGIN:VTIMEZONE
TZID:UTC
BEGIN:STANDARD
TZOFFSETFROM:+0000
TZOFFSETTO:+0000
TZNAME:UTC
DTSTART:20160101T000000
END:STANDARD
END:VTIMEZONE
BEGIN:VEVENT
DTSTART;VALUE=DATE:20230211
DTEND;VALUE=DATE:20240101
DTSTAMP:20260421T162804
CREATED:20230211T215551Z
LAST-MODIFIED:20230214T030924Z
UID:1493-1676073600-1704067199@westfieldridingclub.org
SUMMARY:2023 Events Calendar
DESCRIPTION:
URL:https://westfieldridingclub.org/event/2023-events-calendar/
LOCATION:Westfield Riding Club\, 29 Fowler Rd\, Westfield\, MA\, 01085\, United States
CATEGORIES:Games Day,Horse Shows,Meetings,Special Events,Trail Rides
ATTACH;FMTTYPE=image/jpeg:https://westfieldridingclub.org/wp-content/uploads/2021/04/B75E22C8-6BAC-463F-9F95-3151276A9869.jpeg
ORGANIZER;CN="Westfield Riding Club":MAILTO:westfieldridingclub@gmail.com
END:VEVENT
BEGIN:VEVENT
DTSTART;TZID=UTC:20200808T083000
DTEND;TZID=UTC:20200808T180000
DTSTAMP:20260421T162804
CREATED:20200129T161930Z
LAST-MODIFIED:20200809T185358Z
UID:1197-1596875400-1596909600@westfieldridingclub.org
SUMMARY:2020 Fall WRC 4H & Open Horse Show--CANCELED
DESCRIPTION:Westfield Riding Club bring fun back to horse showing! Come be a part of an event 81 years in the making! \nMain Ring Judge: TBD\nTrail/Halter Judge: TBD
URL:https://westfieldridingclub.org/event/2020-fall-wrc-4h-open-horse-show/
LOCATION:Westfield Riding Club\, 29 Fowler Rd\, Westfield\, MA\, 01085\, United States
CATEGORIES:Horse Shows
ATTACH;FMTTYPE=image/jpeg:https://westfieldridingclub.org/wp-content/uploads/2020/01/FallHorseShow.jpg
ORGANIZER;CN="Westfield Riding Club":MAILTO:westfieldridingclub@gmail.com
END:VEVENT
BEGIN:VEVENT
DTSTART;TZID=UTC:20200607T083000
DTEND;TZID=UTC:20200607T180000
DTSTAMP:20260421T162804
CREATED:20200129T161757Z
LAST-MODIFIED:20200604T000552Z
UID:1192-1591518600-1591552800@westfieldridingclub.org
SUMMARY:2020 Spring WRC 4H & Open Horse Show-CANCELLED
DESCRIPTION:Westfield Riding Club bring fun back to horse showing! Come be a part of an event 81 years in the making! \nMain Ring Judge: TBD\nTrail/Halter Judge: TBD
URL:https://westfieldridingclub.org/event/2020-spring-wrc-4h-open-horse-show/
LOCATION:Westfield Riding Club\, 29 Fowler Rd\, Westfield\, MA\, 01085\, United States
CATEGORIES:Horse Shows
ATTACH;FMTTYPE=image/jpeg:https://westfieldridingclub.org/wp-content/uploads/2020/01/SpringHorseShow.jpg
ORGANIZER;CN="Westfield Riding Club":MAILTO:westfieldridingclub@gmail.com
END:VEVENT
BEGIN:VEVENT
DTSTART;TZID=UTC:20190908T080000
DTEND;TZID=UTC:20190908T170000
DTSTAMP:20260421T162804
CREATED:20190309T151250Z
LAST-MODIFIED:20190309T151250Z
UID:1068-1567929600-1567962000@westfieldridingclub.org
SUMMARY:2019 Fall WRC Open & 4-H Horse Show
DESCRIPTION:Help the Westfield Riding Club celebrate its 80th Anniversary in 2019 by riding in one of our Open & 4-H Horse Show! Great atmosphere\, Friendly & helpful judges\, and Good friends! \n  \n  \nJudges: Spring Show -TBA\nHalter/Trail: Spring Show – TBA \n  \nJudges: Fall Show -TBA\nHalter/Trail: Fall Show – TBA \n  \n 
URL:https://westfieldridingclub.org/event/2019-fall-wrc-open-4-h-horse-show/
LOCATION:Westfield Riding Club\, 29 Fowler Rd\, Westfield\, MA\, 01085\, United States
CATEGORIES:Horse Shows
ORGANIZER;CN="Westfield Riding Club":MAILTO:westfieldridingclub@gmail.com
END:VEVENT
BEGIN:VEVENT
DTSTART;TZID=UTC:20190609T080000
DTEND;TZID=UTC:20190609T170000
DTSTAMP:20260421T162804
CREATED:20190309T150959Z
LAST-MODIFIED:20190309T151156Z
UID:1064-1560067200-1560099600@westfieldridingclub.org
SUMMARY:2019 WRC Spring Open & 4-H Horse Show
DESCRIPTION:Help the Westfield Riding Club celebrate its 80th Anniversary in 2019 by riding in one of our Open & 4-H Horse Show! Great atmosphere\, Friendly & helpful judges\, and Good friends! \n  \n  \nJudges: Spring Show -TBA\nHalter/Trail: Spring Show – TBA \n  \nJudges: Fall Show -TBA\nHalter/Trail: Fall Show – TBA \n  \n 
URL:https://westfieldridingclub.org/event/1064/
LOCATION:Westfield Riding Club\, 29 Fowler Rd\, Westfield\, MA\, 01085\, United States
CATEGORIES:Horse Shows
ORGANIZER;CN="Westfield Riding Club":MAILTO:westfieldridingclub@gmail.com
END:VEVENT
BEGIN:VEVENT
DTSTART;TZID=UTC:20180610T080000
DTEND;TZID=UTC:20180610T180000
DTSTAMP:20260421T162804
CREATED:20160207T030258Z
LAST-MODIFIED:20180502T182009Z
UID:597-1528617600-1528653600@westfieldridingclub.org
SUMMARY:2018 WRC Spring 4-H and Open Show
DESCRIPTION:WRC is making horse showing fun again in 2018! Great atmosphere\, Friendly & helpful judges\, and Good friends! \n  \n  \nJudges: Spring Show – Beth Tolhurst\, Marlboro\, CT\nHalter/Trail: Spring Show – Ed Golembeski\, Gill\, MA \n  \nJudges: Fall Show – Lindsy Danforth\, S. Windsor\, CT\nHalter/Trail: Fall Show – Joy Collins\, Belchertown\, MA \n  \n 
URL:https://westfieldridingclub.org/event/westfield-riding-club-spring-4-h-and-open-show/
LOCATION:Westfield Riding Club\, 29 Fowler Rd\, Westfield\, MA\, 01085\, United States
CATEGORIES:Horse Shows
ORGANIZER;CN="Westfield Riding Club":MAILTO:westfieldridingclub@gmail.com
END:VEVENT
BEGIN:VEVENT
DTSTART;TZID=UTC:20170910T080000
DTEND;TZID=UTC:20170910T180000
DTSTAMP:20260421T162804
CREATED:20160207T164844Z
LAST-MODIFIED:20170311T135653Z
UID:607-1505030400-1505066400@westfieldridingclub.org
SUMMARY:2017 WRC Fall 4-H & Open Show
DESCRIPTION:WRC is making horse showing fun again in 2017! Great atmosphere\, Friendly & helpful judges\, and Good friends! \nFull list of divisions and classes coming soon! \nJudges:\nRing: Missy Tansey\, Coventry RI\nHalter/Trail: Brie-Anna Massoni\, Granby CT
URL:https://westfieldridingclub.org/event/westfield-riding-club-fall-4-h-open-show/
LOCATION:Westfield Riding Club\, 29 Fowler Rd\, Westfield\, MA\, 01085\, United States
CATEGORIES:Horse Shows
ORGANIZER;CN="Westfield Riding Club":MAILTO:westfieldridingclub@gmail.com
END:VEVENT
END:VCALENDAR